BEGIN:VCALENDAR
VERSION:2.0
PRODID:-//Plone.org//NONSGML plone.app.event//EN
X-WR-TIMEZONE:Europe/Berlin
BEGIN:VEVENT
SUMMARY:GESTIRE IL SUOLO\, PRESERVARE LA VITA strategie per un’agricoltu
 ra rigenerativa
DTSTART;TZID=Europe/Berlin;VALUE=DATE-TIME:20251112T070000
DTEND;TZID=Europe/Berlin;VALUE=DATE-TIME:20251112T080000
DTSTAMP;VALUE=DATE-TIME:20260422T210308Z
UID:9e70a18db1694beba75ca67b17510a6e@www.isprambiente.gov.it
CONTACT:https://www.fisiocritici.it/eventi/5142/-/gestire-il-suolo-preserv
 are-la-vita-strategie-per-unagricoltura-rigenerativa
CREATED;VALUE=DATE-TIME:20251107T064955Z
LAST-MODIFIED;VALUE=DATE-TIME:20251107T064959Z
URL:https://www.isprambiente.gov.it/it/attivita/museo/calendario-eventi/20
 25/gestire-il-suolo-preservare-la-vita-strategie-per-un2019agricoltura-rig
 enerativa
END:VEVENT
BEGIN:VTIMEZONE
TZID:Europe/Berlin
X-LIC-LOCATION:Europe/Berlin
BEGIN:STANDARD
DTSTART;VALUE=DATE-TIME:20251026T020000
TZNAME:CET
TZOFFSETFROM:+0200
TZOFFSETTO:+0100
END:STANDARD
END:VTIMEZONE
END:VCALENDAR
