BEGIN:VCALENDAR
VERSION:2.0
PRODID:-//Plone.org//NONSGML plone.app.event//EN
X-WR-TIMEZONE:Europe/Berlin
BEGIN:VEVENT
SUMMARY:Gioco di Ruolo al Museo
DTSTART;TZID=Europe/Berlin;VALUE=DATE-TIME:20250530T090000
DTEND;TZID=Europe/Berlin;VALUE=DATE-TIME:20250530T100000
DTSTAMP;VALUE=DATE-TIME:20260422T205352Z
UID:c4c67522d6054664bace5287f140c9b4@www.isprambiente.gov.it
CONTACT:https://www.museopaleontologicomontevarchi.it/events/gioco-di-ruol
 o-al-museo/
CREATED;VALUE=DATE-TIME:20250529T072437Z
LAST-MODIFIED;VALUE=DATE-TIME:20250529T072440Z
URL:https://www.isprambiente.gov.it/it/attivita/museo/calendario-eventi/20
 25/gioco-di-ruolo-al-museo
END:VEVENT
BEGIN:VTIMEZONE
TZID:Europe/Berlin
X-LIC-LOCATION:Europe/Berlin
BEGIN:DAYLIGHT
DTSTART;VALUE=DATE-TIME:20250330T030000
TZNAME:CEST
TZOFFSETFROM:+0100
TZOFFSETTO:+0200
END:DAYLIGHT
END:VTIMEZONE
END:VCALENDAR
