BEGIN:VCALENDAR
VERSION:2.0
PRODID:-//Plone.org//NONSGML plone.app.event//EN
X-WR-TIMEZONE:Europe/Berlin
BEGIN:VEVENT
SUMMARY:Giornata Europea dei Parchi
DTSTART;TZID=Europe/Berlin;VALUE=DATE-TIME:20250524T100000
DTEND;TZID=Europe/Berlin;VALUE=DATE-TIME:20250524T110000
DTSTAMP;VALUE=DATE-TIME:20260422T210129Z
UID:4b72565c514c4c0c82a182c0140a0872@www.isprambiente.gov.it
CONTACT:https://www.giornatemondiali.it/calendario/giornata-europea-dei-pa
 rchi/var/ri-6.l-L1/
CREATED;VALUE=DATE-TIME:20250515T081012Z
LAST-MODIFIED;VALUE=DATE-TIME:20250515T081016Z
URL:https://www.isprambiente.gov.it/it/attivita/museo/calendario-eventi/20
 25/giornata-europea-dei-parchi
END:VEVENT
BEGIN:VTIMEZONE
TZID:Europe/Berlin
X-LIC-LOCATION:Europe/Berlin
BEGIN:DAYLIGHT
DTSTART;VALUE=DATE-TIME:20250330T030000
TZNAME:CEST
TZOFFSETFROM:+0100
TZOFFSETTO:+0200
END:DAYLIGHT
END:VTIMEZONE
END:VCALENDAR
