BEGIN:VCALENDAR
VERSION:2.0
PRODID:-//Plone.org//NONSGML plone.app.event//EN
X-WR-TIMEZONE:Europe/Berlin
BEGIN:VEVENT
SUMMARY:Giornata Internazionale dell’Educazione
DTSTART;TZID=Europe/Berlin;VALUE=DATE-TIME:20250124T140000
DTEND;TZID=Europe/Berlin;VALUE=DATE-TIME:20250124T150000
DTSTAMP;VALUE=DATE-TIME:20260422T210140Z
UID:d59cde0851d8435ebcc1dac85a8246a2@www.isprambiente.gov.it
CREATED;VALUE=DATE-TIME:20250107T131339Z
LAST-MODIFIED;VALUE=DATE-TIME:20250107T131348Z
URL:https://www.isprambiente.gov.it/it/attivita/museo/calendario-eventi/20
 25/giornata-internazionale-dell2019educazione
END:VEVENT
BEGIN:VTIMEZONE
TZID:Europe/Berlin
X-LIC-LOCATION:Europe/Berlin
BEGIN:STANDARD
DTSTART;VALUE=DATE-TIME:20241027T020000
TZNAME:CET
TZOFFSETFROM:+0200
TZOFFSETTO:+0100
END:STANDARD
END:VTIMEZONE
END:VCALENDAR
