BEGIN:VCALENDAR
VERSION:2.0
PRODID:-//Plone.org//NONSGML plone.app.event//EN
X-WR-TIMEZONE:Europe/Berlin
BEGIN:VEVENT
SUMMARY:Giornata Internazionale di Azione per i Fiumi
DTSTART;TZID=Europe/Berlin;VALUE=DATE-TIME:20250314T100000
DTEND;TZID=Europe/Berlin;VALUE=DATE-TIME:20250314T110000
DTSTAMP;VALUE=DATE-TIME:20260422T210236Z
UID:b5ebc891b7944fae847c07cc47bd6c67@www.isprambiente.gov.it
CONTACT:https://www.giornatemondiali.it/calendario/giornata-internazionale
 -di-azione-per-i-fiumi/var/ri-6.l-L1/
CREATED;VALUE=DATE-TIME:20250311T091255Z
LAST-MODIFIED;VALUE=DATE-TIME:20250311T091259Z
URL:https://www.isprambiente.gov.it/it/attivita/museo/calendario-eventi/20
 25/giornata-internazionale-di-azione-per-i-fiumi
END:VEVENT
BEGIN:VTIMEZONE
TZID:Europe/Berlin
X-LIC-LOCATION:Europe/Berlin
BEGIN:STANDARD
DTSTART;VALUE=DATE-TIME:20241027T020000
TZNAME:CET
TZOFFSETFROM:+0200
TZOFFSETTO:+0100
END:STANDARD
END:VTIMEZONE
END:VCALENDAR
