BEGIN:VCALENDAR
VERSION:2.0
PRODID:-//Plone.org//NONSGML plone.app.event//EN
X-WR-TIMEZONE:Europe/Berlin
BEGIN:VEVENT
SUMMARY:Giornata internazionale per la riduzione dei disastri naturali
DTSTART;TZID=Europe/Berlin;VALUE=DATE-TIME:20251013T110000
DTEND;TZID=Europe/Berlin;VALUE=DATE-TIME:20251013T120000
DTSTAMP;VALUE=DATE-TIME:20260422T222543Z
UID:4ec5d7113fa34cd3a0e5f220236bb08b@www.isprambiente.gov.it
CONTACT:https://www.un.org/en/observances/disaster-reduction-day
CREATED;VALUE=DATE-TIME:20251007T091020Z
LAST-MODIFIED;VALUE=DATE-TIME:20251007T091024Z
URL:https://www.isprambiente.gov.it/it/attivita/museo/calendario-eventi/20
 25/giornata-internazionale-per-la-riduzione-dei-disastri-naturali
END:VEVENT
BEGIN:VTIMEZONE
TZID:Europe/Berlin
X-LIC-LOCATION:Europe/Berlin
BEGIN:DAYLIGHT
DTSTART;VALUE=DATE-TIME:20250330T030000
TZNAME:CEST
TZOFFSETFROM:+0100
TZOFFSETTO:+0200
END:DAYLIGHT
END:VTIMEZONE
END:VCALENDAR
