BEGIN:VCALENDAR
VERSION:2.0
PRODID:-//Plone.org//NONSGML plone.app.event//EN
X-WR-TIMEZONE:Europe/Berlin
BEGIN:VEVENT
SUMMARY:Giornata Mondiale dell'Ambiente
DTSTART;TZID=Europe/Berlin;VALUE=DATE-TIME:20250605T080000
DTEND;TZID=Europe/Berlin;VALUE=DATE-TIME:20250605T090000
DTSTAMP;VALUE=DATE-TIME:20260422T205519Z
UID:fc48d5925810475d90e87ebac7f81039@www.isprambiente.gov.it
CONTACT:https://www.un.org/en/observances/environment-day
CREATED;VALUE=DATE-TIME:20250526T062904Z
LAST-MODIFIED;VALUE=DATE-TIME:20250526T062912Z
URL:https://www.isprambiente.gov.it/it/attivita/museo/calendario-eventi/20
 25/giornata-mondiale-dellambiente
END:VEVENT
BEGIN:VTIMEZONE
TZID:Europe/Berlin
X-LIC-LOCATION:Europe/Berlin
BEGIN:DAYLIGHT
DTSTART;VALUE=DATE-TIME:20250330T030000
TZNAME:CEST
TZOFFSETFROM:+0100
TZOFFSETTO:+0200
END:DAYLIGHT
END:VTIMEZONE
END:VCALENDAR
