BEGIN:VCALENDAR
VERSION:2.0
PRODID:-//Plone.org//NONSGML plone.app.event//EN
X-WR-TIMEZONE:Europe/Berlin
BEGIN:VEVENT
SUMMARY:Giornata mondiale delle Api
DTSTART;TZID=Europe/Berlin;VALUE=DATE-TIME:20250520T090000
DTEND;TZID=Europe/Berlin;VALUE=DATE-TIME:20250520T100000
DTSTAMP;VALUE=DATE-TIME:20260422T205349Z
UID:348b5f4c6b1d446fbb2a194acaefcbfd@www.isprambiente.gov.it
CONTACT:https://www.un.org/en/observances/bee-day
CREATED;VALUE=DATE-TIME:20250509T073047Z
LAST-MODIFIED;VALUE=DATE-TIME:20250509T073051Z
URL:https://www.isprambiente.gov.it/it/attivita/museo/calendario-eventi/20
 25/giornata-mondiale-delle-api
END:VEVENT
BEGIN:VTIMEZONE
TZID:Europe/Berlin
X-LIC-LOCATION:Europe/Berlin
BEGIN:DAYLIGHT
DTSTART;VALUE=DATE-TIME:20250330T030000
TZNAME:CEST
TZOFFSETFROM:+0100
TZOFFSETTO:+0200
END:DAYLIGHT
END:VTIMEZONE
END:VCALENDAR
