BEGIN:VCALENDAR
VERSION:2.0
PRODID:-//Plone.org//NONSGML plone.app.event//EN
X-WR-TIMEZONE:Europe/Berlin
BEGIN:VEVENT
SUMMARY:Giornata Mondiale delle Zone Umide
DTSTART;TZID=Europe/Berlin;VALUE=DATE-TIME:20250202T110000
DTEND;TZID=Europe/Berlin;VALUE=DATE-TIME:20250202T120000
DTSTAMP;VALUE=DATE-TIME:20260422T210130Z
UID:a8c2bc5521eb447ab0210a1a7eda91cc@www.isprambiente.gov.it
CONTACT:https://www.giornatemondiali.it/calendario/giornata-mondiale-delle
 -zone-umide/var/ri-6.l-L1/
CREATED;VALUE=DATE-TIME:20250129T104350Z
LAST-MODIFIED;VALUE=DATE-TIME:20250129T104353Z
URL:https://www.isprambiente.gov.it/it/attivita/museo/calendario-eventi/20
 25/giornata-mondiale-delle-zone-umide
END:VEVENT
BEGIN:VTIMEZONE
TZID:Europe/Berlin
X-LIC-LOCATION:Europe/Berlin
BEGIN:STANDARD
DTSTART;VALUE=DATE-TIME:20241027T020000
TZNAME:CET
TZOFFSETFROM:+0200
TZOFFSETTO:+0100
END:STANDARD
END:VTIMEZONE
END:VCALENDAR
