BEGIN:VCALENDAR
VERSION:2.0
PRODID:-//Plone.org//NONSGML plone.app.event//EN
X-WR-TIMEZONE:Europe/Berlin
BEGIN:VEVENT
SUMMARY:Giornata Nazionale dello Spazio 2025
DTSTART;TZID=Europe/Berlin;VALUE=DATE-TIME:20251216T070000
DTEND;TZID=Europe/Berlin;VALUE=DATE-TIME:20251216T080000
DTSTAMP;VALUE=DATE-TIME:20260422T192147Z
UID:91566cfb13e6414cb076e8c92a73a4d2@www.isprambiente.gov.it
CREATED;VALUE=DATE-TIME:20251128T061447Z
LAST-MODIFIED;VALUE=DATE-TIME:20251128T061450Z
URL:https://www.isprambiente.gov.it/it/attivita/museo/calendario-eventi/20
 25/giornata-nazionale-dello-spazio-2025
END:VEVENT
BEGIN:VTIMEZONE
TZID:Europe/Berlin
X-LIC-LOCATION:Europe/Berlin
BEGIN:STANDARD
DTSTART;VALUE=DATE-TIME:20251026T020000
TZNAME:CET
TZOFFSETFROM:+0200
TZOFFSETTO:+0100
END:STANDARD
END:VTIMEZONE
END:VCALENDAR
