BEGIN:VCALENDAR
VERSION:2.0
PRODID:-//Plone.org//NONSGML plone.app.event//EN
X-WR-TIMEZONE:Europe/Berlin
BEGIN:VEVENT
SUMMARY:Giuseppe Šebesta (1919 – 2005). Giornate di studio a vent'anni 
 dalla scomparsa
DTSTART;TZID=Europe/Berlin;VALUE=DATE-TIME:20250926T100000
DTEND;TZID=Europe/Berlin;VALUE=DATE-TIME:20250927T110000
DTSTAMP;VALUE=DATE-TIME:20260422T222414Z
UID:38a659d69cf54cc283cadd17093cea08@www.isprambiente.gov.it
CONTACT:https://www.museosanmichele.it/dettaglio-appuntamento/-/d/giornate
 -di-studio-giuseppe-%C5%A0ebesta
CREATED;VALUE=DATE-TIME:20250923T081842Z
LAST-MODIFIED;VALUE=DATE-TIME:20250923T081859Z
URL:https://www.isprambiente.gov.it/it/attivita/museo/calendario-eventi/20
 25/giuseppe-sebesta-1919-2013-2005-giornate-di-studio-a-ventanni-dalla-sco
 mparsa
END:VEVENT
BEGIN:VTIMEZONE
TZID:Europe/Berlin
X-LIC-LOCATION:Europe/Berlin
BEGIN:DAYLIGHT
DTSTART;VALUE=DATE-TIME:20250330T030000
TZNAME:CEST
TZOFFSETFROM:+0100
TZOFFSETTO:+0200
END:DAYLIGHT
END:VTIMEZONE
END:VCALENDAR
