BEGIN:VCALENDAR
VERSION:2.0
PRODID:-//Plone.org//NONSGML plone.app.event//EN
X-WR-TIMEZONE:Europe/Berlin
BEGIN:VEVENT
SUMMARY:Glaciers\, an essential source of life around our mountains
DTSTART;TZID=Europe/Berlin;VALUE=DATE-TIME:20251211T070000
DTEND;TZID=Europe/Berlin;VALUE=DATE-TIME:20251211T080000
DTSTAMP;VALUE=DATE-TIME:20260422T210140Z
UID:b447a8702afd4a23a95b9e42d535dc41@www.isprambiente.gov.it
CONTACT:https://www.un.org/en/observances/mountain-day?_gl=1*iu0lnh*_ga*Nz
 A1NjUxMDk0LjE3MzIyMTA5Mjc.*_ga_TK9BQL5X7Z*czE3NjQyMzgwNzIkbzgkZzEkdDE3NjQy
 MzgwODMkajQ5JGwwJGgw
CREATED;VALUE=DATE-TIME:20251128T062331Z
LAST-MODIFIED;VALUE=DATE-TIME:20251128T062334Z
URL:https://www.isprambiente.gov.it/it/attivita/museo/calendario-eventi/20
 25/glaciers-an-essential-source-of-life-around-our-mountains
END:VEVENT
BEGIN:VTIMEZONE
TZID:Europe/Berlin
X-LIC-LOCATION:Europe/Berlin
BEGIN:STANDARD
DTSTART;VALUE=DATE-TIME:20251026T020000
TZNAME:CET
TZOFFSETFROM:+0200
TZOFFSETTO:+0100
END:STANDARD
END:VTIMEZONE
END:VCALENDAR
