BEGIN:VCALENDAR
VERSION:2.0
PRODID:-//Plone.org//NONSGML plone.app.event//EN
X-WR-TIMEZONE:Europe/Berlin
BEGIN:VEVENT
SUMMARY:Healthy Soils for Healthy Cities
DTSTART;TZID=Europe/Berlin;VALUE=DATE-TIME:20251205T070000
DTEND;TZID=Europe/Berlin;VALUE=DATE-TIME:20251205T080000
DTSTAMP;VALUE=DATE-TIME:20260422T205519Z
UID:de53902f4b844343be11bc0cecdacf36@www.isprambiente.gov.it
CONTACT:https://www.un.org/en/observances/world-soil-day?_gl=1*1ueahzp*_ga
 *NzA1NjUxMDk0LjE3MzIyMTA5Mjc.*_ga_TK9BQL5X7Z*czE3NjM3NDE0MDkkbzckZzEkdDE3N
 jM3NDE0NDMkajI2JGwwJGgw
CREATED;VALUE=DATE-TIME:20251128T061329Z
LAST-MODIFIED;VALUE=DATE-TIME:20251128T061334Z
URL:https://www.isprambiente.gov.it/it/attivita/museo/calendario-eventi/20
 25/healthy-soils-for-healthy-cities
END:VEVENT
BEGIN:VTIMEZONE
TZID:Europe/Berlin
X-LIC-LOCATION:Europe/Berlin
BEGIN:STANDARD
DTSTART;VALUE=DATE-TIME:20251026T020000
TZNAME:CET
TZOFFSETFROM:+0200
TZOFFSETTO:+0100
END:STANDARD
END:VTIMEZONE
END:VCALENDAR
