BEGIN:VCALENDAR
VERSION:2.0
PRODID:-//Plone.org//NONSGML plone.app.event//EN
X-WR-TIMEZONE:Europe/Berlin
BEGIN:VEVENT
SUMMARY:I GIOVEDÌ DELLA GEOLOGIA 2025
DTSTART;TZID=Europe/Berlin;VALUE=DATE-TIME:20251013T080000
DTEND;TZID=Europe/Berlin;VALUE=DATE-TIME:20251023T090000
DTSTAMP;VALUE=DATE-TIME:20260422T205532Z
UID:60b0cd089dfe49ed85e0c20d85e4bdad@www.isprambiente.gov.it
CONTACT:https://www.fondazionemcr.it/events_detail.jsp?IDAREA=5&ID_EVENT=2
 788&GTEMPLATE=eventi_attivi.jsp
CREATED;VALUE=DATE-TIME:20251013T065237Z
LAST-MODIFIED;VALUE=DATE-TIME:20251013T065243Z
URL:https://www.isprambiente.gov.it/it/attivita/museo/calendario-eventi/20
 25/i-giovedi-della-geologia-2025
END:VEVENT
BEGIN:VTIMEZONE
TZID:Europe/Berlin
X-LIC-LOCATION:Europe/Berlin
BEGIN:DAYLIGHT
DTSTART;VALUE=DATE-TIME:20250330T030000
TZNAME:CEST
TZOFFSETFROM:+0100
TZOFFSETTO:+0200
END:DAYLIGHT
END:VTIMEZONE
END:VCALENDAR
