BEGIN:VCALENDAR
VERSION:2.0
PRODID:-//Plone.org//NONSGML plone.app.event//EN
X-WR-TIMEZONE:Europe/Berlin
BEGIN:VEVENT
SUMMARY:I MAMMIFERI RACCONTANO GLI ECOSISTEMI
DTSTART;TZID=Europe/Berlin;VALUE=DATE-TIME:20251108T070000
DTEND;TZID=Europe/Berlin;VALUE=DATE-TIME:20251108T080000
DTSTAMP;VALUE=DATE-TIME:20260422T205727Z
UID:23cf9bc4f53f4b46a640f8beac0de3ba@www.isprambiente.gov.it
CREATED;VALUE=DATE-TIME:20251107T064636Z
LAST-MODIFIED;VALUE=DATE-TIME:20251107T064640Z
URL:https://www.isprambiente.gov.it/it/attivita/museo/calendario-eventi/20
 25/i-mammiferi-raccontano-gli-ecosistemi
END:VEVENT
BEGIN:VTIMEZONE
TZID:Europe/Berlin
X-LIC-LOCATION:Europe/Berlin
BEGIN:STANDARD
DTSTART;VALUE=DATE-TIME:20251026T020000
TZNAME:CET
TZOFFSETFROM:+0200
TZOFFSETTO:+0100
END:STANDARD
END:VTIMEZONE
END:VCALENDAR
