BEGIN:VCALENDAR
VERSION:2.0
PRODID:-//Plone.org//NONSGML plone.app.event//EN
X-WR-TIMEZONE:Europe/Berlin
BEGIN:VEVENT
SUMMARY:I metalli e l’uomo: un viaggio nel tempo tra storia e leggenda\,
  alchimia\, chimica\, fisica e tecnologia
DTSTART;TZID=Europe/Berlin;VALUE=DATE-TIME:20251121T080000
DTEND;TZID=Europe/Berlin;VALUE=DATE-TIME:20251130T090000
DTSTAMP;VALUE=DATE-TIME:20260422T223318Z
UID:898f5ac345c44b55a68ea112bac0521c@www.isprambiente.gov.it
CONTACT:https://www.anms.it/eventi/dettaglio_evento/7695
CREATED;VALUE=DATE-TIME:20251117T073550Z
LAST-MODIFIED;VALUE=DATE-TIME:20251117T073555Z
URL:https://www.isprambiente.gov.it/it/attivita/museo/calendario-eventi/20
 25/i-metalli-e-l2019uomo-un-viaggio-nel-tempo-tra-storia-e-leggenda-alchim
 ia-chimica-fisica-e-tecnologia
END:VEVENT
BEGIN:VTIMEZONE
TZID:Europe/Berlin
X-LIC-LOCATION:Europe/Berlin
BEGIN:STANDARD
DTSTART;VALUE=DATE-TIME:20251026T020000
TZNAME:CET
TZOFFSETFROM:+0200
TZOFFSETTO:+0100
END:STANDARD
END:VTIMEZONE
END:VCALENDAR
