BEGIN:VCALENDAR
VERSION:2.0
PRODID:-//Plone.org//NONSGML plone.app.event//EN
X-WR-TIMEZONE:Europe/Berlin
BEGIN:VEVENT
SUMMARY:I primi custodi della memoria. Le sepolture nel Paleolitico
DTSTART;TZID=Europe/Berlin;VALUE=DATE-TIME:20250129T110000
DTEND;TZID=Europe/Berlin;VALUE=DATE-TIME:20250314T120000
DTSTAMP;VALUE=DATE-TIME:20260422T222537Z
UID:6bcdd446980c4d419bad85125b6476ec@www.isprambiente.gov.it
CONTACT:https://www.museoanatomia.unito.it/mostra-16-gennaio-14-marzo-2025
 /
CREATED;VALUE=DATE-TIME:20250129T102800Z
LAST-MODIFIED;VALUE=DATE-TIME:20250129T102804Z
URL:https://www.isprambiente.gov.it/it/attivita/museo/calendario-eventi/20
 25/i-primi-custodi-della-memoria-le-sepolture-nel-paleolitico-1
END:VEVENT
BEGIN:VTIMEZONE
TZID:Europe/Berlin
X-LIC-LOCATION:Europe/Berlin
BEGIN:STANDARD
DTSTART;VALUE=DATE-TIME:20241027T020000
TZNAME:CET
TZOFFSETFROM:+0200
TZOFFSETTO:+0100
END:STANDARD
END:VTIMEZONE
END:VCALENDAR
