BEGIN:VCALENDAR
VERSION:2.0
PRODID:-//Plone.org//NONSGML plone.app.event//EN
X-WR-TIMEZONE:Europe/Berlin
BEGIN:VEVENT
SUMMARY:I sabati della scienza
DTSTART;TZID=Europe/Berlin;VALUE=DATE-TIME:20250303T070000
DTEND;TZID=Europe/Berlin;VALUE=DATE-TIME:20250315T080000
DTSTAMP;VALUE=DATE-TIME:20260422T205350Z
UID:74bd934deeb34ab1bc4c6554ca2e7f27@www.isprambiente.gov.it
CONTACT:https://www.anms.it/upload/allegati/1a3fcc971606963ebc0fe873c611f5
 dd.jpg
CREATED;VALUE=DATE-TIME:20250303T070013Z
LAST-MODIFIED;VALUE=DATE-TIME:20250303T070017Z
URL:https://www.isprambiente.gov.it/it/attivita/museo/calendario-eventi/20
 25/i-sabati-della-scienza
END:VEVENT
BEGIN:VTIMEZONE
TZID:Europe/Berlin
X-LIC-LOCATION:Europe/Berlin
BEGIN:STANDARD
DTSTART;VALUE=DATE-TIME:20241027T020000
TZNAME:CET
TZOFFSETFROM:+0200
TZOFFSETTO:+0100
END:STANDARD
END:VTIMEZONE
END:VCALENDAR
