BEGIN:VCALENDAR
VERSION:2.0
PRODID:-//Plone.org//NONSGML plone.app.event//EN
X-WR-TIMEZONE:Europe/Berlin
BEGIN:VEVENT
SUMMARY:Il difficile equilibrio dell’interdisciplinarietà: biblioteche\
 , musei e archivi tra valorizzazione e conservazione
DTSTART;TZID=Europe/Berlin;VALUE=DATE-TIME:20250312T070000
DTEND;TZID=Europe/Berlin;VALUE=DATE-TIME:20250313T080000
DTSTAMP;VALUE=DATE-TIME:20260422T210145Z
UID:40916f610a52410b93e00520101dea64@www.isprambiente.gov.it
CONTACT:https://www.convegnostelline.it/evento/il-difficile-equilibrio-del
 linterdisciplinarieta-biblioteche-musei-e-archivi-tra-valorizzazione-e-con
 servazione/
CREATED;VALUE=DATE-TIME:20250307T065702Z
LAST-MODIFIED;VALUE=DATE-TIME:20250307T065712Z
URL:https://www.isprambiente.gov.it/it/attivita/museo/calendario-eventi/20
 25/il-difficile-equilibrio-dell2019interdisciplinarieta-biblioteche-musei-
 e-archivi-tra-valorizzazione-e-conservazione
END:VEVENT
BEGIN:VTIMEZONE
TZID:Europe/Berlin
X-LIC-LOCATION:Europe/Berlin
BEGIN:STANDARD
DTSTART;VALUE=DATE-TIME:20241027T020000
TZNAME:CET
TZOFFSETFROM:+0200
TZOFFSETTO:+0100
END:STANDARD
END:VTIMEZONE
END:VCALENDAR
