BEGIN:VCALENDAR
VERSION:2.0
PRODID:-//Plone.org//NONSGML plone.app.event//EN
X-WR-TIMEZONE:Europe/Berlin
BEGIN:VEVENT
SUMMARY:Il lato oscuro della fotografia Dialoghi sulla digitalizzazione e 
 valorizzazione dei negativi storici
DTSTART;TZID=Europe/Berlin;VALUE=DATE-TIME:20251211T080000
DTEND;TZID=Europe/Berlin;VALUE=DATE-TIME:20251211T090000
DTSTAMP;VALUE=DATE-TIME:20260422T210308Z
UID:c8f33a9c053745c281705b416ab69425@www.isprambiente.gov.it
CONTACT:https://www.icom-italia.org/wp-content/uploads/2025/12/cr-toscana-
 A4-4.pdf
CREATED;VALUE=DATE-TIME:20251205T074615Z
LAST-MODIFIED;VALUE=DATE-TIME:20251205T074619Z
URL:https://www.isprambiente.gov.it/it/attivita/museo/calendario-eventi/20
 25/il-lato-oscuro-della-fotografia-dialoghi-sulla-digitalizzazione-e-valor
 izzazione-dei-negativi-storici
END:VEVENT
BEGIN:VTIMEZONE
TZID:Europe/Berlin
X-LIC-LOCATION:Europe/Berlin
BEGIN:STANDARD
DTSTART;VALUE=DATE-TIME:20251026T020000
TZNAME:CET
TZOFFSETFROM:+0200
TZOFFSETTO:+0100
END:STANDARD
END:VTIMEZONE
END:VCALENDAR
