BEGIN:VCALENDAR
VERSION:2.0
PRODID:-//Plone.org//NONSGML plone.app.event//EN
X-WR-TIMEZONE:Europe/Berlin
BEGIN:VEVENT
SUMMARY:Il racconto dell’INGV sui fenomeni naturali attraverso i cinque 
 sensi arriva a Livorno
DTSTART;TZID=Europe/Berlin;VALUE=DATE-TIME:20251206T080000
DTEND;TZID=Europe/Berlin;VALUE=DATE-TIME:20260430T090000
DTSTAMP;VALUE=DATE-TIME:20260422T211146Z
UID:c0f941d8543543d8ace2fc281dfeb97c@www.isprambiente.gov.it
CONTACT:https://www.ingv.it/stampa-urp/ufficio-stampa/news/mostra-il-racco
 nto-dell-ingv-sui-fenomeni-naturali-attraverso-i-cinque-sensi-arriva-a-liv
 orno
CREATED;VALUE=DATE-TIME:20251205T075000Z
LAST-MODIFIED;VALUE=DATE-TIME:20251205T075004Z
URL:https://www.isprambiente.gov.it/it/attivita/museo/calendario-eventi/20
 25/il-racconto-dell2019ingv-sui-fenomeni-naturali-attraverso-i-cinque-sens
 i-arriva-a-livorno
END:VEVENT
BEGIN:VTIMEZONE
TZID:Europe/Berlin
X-LIC-LOCATION:Europe/Berlin
BEGIN:STANDARD
DTSTART;VALUE=DATE-TIME:20251026T020000
TZNAME:CET
TZOFFSETFROM:+0200
TZOFFSETTO:+0100
END:STANDARD
BEGIN:DAYLIGHT
DTSTART;VALUE=DATE-TIME:20260329T030000
TZNAME:CEST
TZOFFSETFROM:+0100
TZOFFSETTO:+0200
END:DAYLIGHT
END:VTIMEZONE
END:VCALENDAR
