BEGIN:VCALENDAR
VERSION:2.0
PRODID:-//Plone.org//NONSGML plone.app.event//EN
X-WR-TIMEZONE:Europe/Berlin
BEGIN:VEVENT
SUMMARY:International Day for Biological Diversity
DTSTART;TZID=Europe/Berlin;VALUE=DATE-TIME:20250522T100000
DTEND;TZID=Europe/Berlin;VALUE=DATE-TIME:20250522T110000
DTSTAMP;VALUE=DATE-TIME:20260422T205518Z
UID:ee04f04592054d96b605579b7927dc75@www.isprambiente.gov.it
CONTACT:https://www.un.org/en/observances/biological-diversity-day
CREATED;VALUE=DATE-TIME:20250515T080920Z
LAST-MODIFIED;VALUE=DATE-TIME:20250515T080929Z
URL:https://www.isprambiente.gov.it/it/attivita/museo/calendario-eventi/20
 25/international-day-for-biological-diversity
END:VEVENT
BEGIN:VTIMEZONE
TZID:Europe/Berlin
X-LIC-LOCATION:Europe/Berlin
BEGIN:DAYLIGHT
DTSTART;VALUE=DATE-TIME:20250330T030000
TZNAME:CEST
TZOFFSETFROM:+0100
TZOFFSETTO:+0200
END:DAYLIGHT
END:VTIMEZONE
END:VCALENDAR
