BEGIN:VCALENDAR
VERSION:2.0
PRODID:-//Plone.org//NONSGML plone.app.event//EN
X-WR-TIMEZONE:Europe/Berlin
BEGIN:VEVENT
SUMMARY:International Day for Preventing the Exploitation of the Environme
 nt in War and Armed Conflict
DTSTART;TZID=Europe/Berlin;VALUE=DATE-TIME:20251106T070000
DTEND;TZID=Europe/Berlin;VALUE=DATE-TIME:20251106T080000
DTSTAMP;VALUE=DATE-TIME:20260422T222542Z
UID:8d19c7b09504421cbfcdd9a9f3fd73fd@www.isprambiente.gov.it
CONTACT:https://www.un.org/en/observances/environment-in-war-protection-da
 y?_gl=1*1g57no2*_ga*NzA1NjUxMDk0LjE3MzIyMTA5Mjc.*_ga_TK9BQL5X7Z*czE3NjA5Nz
 c1NjgkbzQkZzEkdDE3NjA5Nzc3NzIkajYwJGwwJGgw
CREATED;VALUE=DATE-TIME:20251023T053324Z
LAST-MODIFIED;VALUE=DATE-TIME:20251023T053408Z
URL:https://www.isprambiente.gov.it/it/attivita/museo/calendario-eventi/20
 25/international-day-for-preventing-the-exploitation-of-the-environment-in
 -war-and-armed-conflict
END:VEVENT
BEGIN:VTIMEZONE
TZID:Europe/Berlin
X-LIC-LOCATION:Europe/Berlin
BEGIN:STANDARD
DTSTART;VALUE=DATE-TIME:20251026T020000
TZNAME:CET
TZOFFSETFROM:+0200
TZOFFSETTO:+0100
END:STANDARD
END:VTIMEZONE
END:VCALENDAR
