BEGIN:VCALENDAR
VERSION:2.0
PRODID:-//Plone.org//NONSGML plone.app.event//EN
X-WR-TIMEZONE:Europe/Berlin
BEGIN:VEVENT
SUMMARY:International Day of Clean Energy
DTSTART;TZID=Europe/Berlin;VALUE=DATE-TIME:20250126T140000
DTEND;TZID=Europe/Berlin;VALUE=DATE-TIME:20250126T150000
DTSTAMP;VALUE=DATE-TIME:20260422T205727Z
UID:2e2f3dae0bf8442eb9d3da6500d83f3e@www.isprambiente.gov.it
CREATED;VALUE=DATE-TIME:20250107T131439Z
LAST-MODIFIED;VALUE=DATE-TIME:20250107T131443Z
URL:https://www.isprambiente.gov.it/it/attivita/museo/calendario-eventi/20
 25/international-day-of-clean-energy
END:VEVENT
BEGIN:VTIMEZONE
TZID:Europe/Berlin
X-LIC-LOCATION:Europe/Berlin
BEGIN:STANDARD
DTSTART;VALUE=DATE-TIME:20241027T020000
TZNAME:CET
TZOFFSETFROM:+0200
TZOFFSETTO:+0100
END:STANDARD
END:VTIMEZONE
END:VCALENDAR
