BEGIN:VCALENDAR
VERSION:2.0
PRODID:-//Plone.org//NONSGML plone.app.event//EN
X-WR-TIMEZONE:Europe/Berlin
BEGIN:VEVENT
SUMMARY:International Day of Light
DTSTART;TZID=Europe/Berlin;VALUE=DATE-TIME:20250516T080000
DTEND;TZID=Europe/Berlin;VALUE=DATE-TIME:20250516T090000
DTSTAMP;VALUE=DATE-TIME:20260422T205530Z
UID:82313cdf19dc44ff89a17a97de09e28b@www.isprambiente.gov.it
CONTACT:https://www.unesco.org/en/days/light?hub=180536
CREATED;VALUE=DATE-TIME:20250505T064633Z
LAST-MODIFIED;VALUE=DATE-TIME:20250505T064642Z
URL:https://www.isprambiente.gov.it/it/attivita/museo/calendario-eventi/20
 25/international-day-of-light
END:VEVENT
BEGIN:VTIMEZONE
TZID:Europe/Berlin
X-LIC-LOCATION:Europe/Berlin
BEGIN:DAYLIGHT
DTSTART;VALUE=DATE-TIME:20250330T030000
TZNAME:CEST
TZOFFSETFROM:+0100
TZOFFSETTO:+0200
END:DAYLIGHT
END:VTIMEZONE
END:VCALENDAR
