BEGIN:VCALENDAR
VERSION:2.0
PRODID:-//Plone.org//NONSGML plone.app.event//EN
X-WR-TIMEZONE:Europe/Berlin
BEGIN:VEVENT
SUMMARY:International Day of Women and Girls in Science
DTSTART;TZID=Europe/Berlin;VALUE=DATE-TIME:20250211T110000
DTEND;TZID=Europe/Berlin;VALUE=DATE-TIME:20250211T120000
DTSTAMP;VALUE=DATE-TIME:20260422T210308Z
UID:e7e15047829041f3bad878dd79e6133b@www.isprambiente.gov.it
CONTACT:https://www.un.org/en/observances/women-and-girls-in-science-day/
CREATED;VALUE=DATE-TIME:20250129T103043Z
LAST-MODIFIED;VALUE=DATE-TIME:20250129T103046Z
URL:https://www.isprambiente.gov.it/it/attivita/museo/calendario-eventi/20
 25/international-day-of-women-and-girls-in-science
END:VEVENT
BEGIN:VTIMEZONE
TZID:Europe/Berlin
X-LIC-LOCATION:Europe/Berlin
BEGIN:STANDARD
DTSTART;VALUE=DATE-TIME:20241027T020000
TZNAME:CET
TZOFFSETFROM:+0200
TZOFFSETTO:+0100
END:STANDARD
END:VTIMEZONE
END:VCALENDAR
