BEGIN:VCALENDAR
VERSION:2.0
PRODID:-//Plone.org//NONSGML plone.app.event//EN
X-WR-TIMEZONE:Europe/Berlin
BEGIN:VEVENT
SUMMARY:International Mother Earth Day
DTSTART;TZID=Europe/Berlin;VALUE=DATE-TIME:20250422T110000
DTEND;TZID=Europe/Berlin;VALUE=DATE-TIME:20250422T120000
DTSTAMP;VALUE=DATE-TIME:20260422T205529Z
UID:13b89e311ecd43ac8041c8c187b7db72@www.isprambiente.gov.it
CONTACT:https://www.un.org/en/observances/earth-day
CREATED;VALUE=DATE-TIME:20250408T095443Z
LAST-MODIFIED;VALUE=DATE-TIME:20250408T095732Z
URL:https://www.isprambiente.gov.it/it/attivita/museo/calendario-eventi/20
 25/international-mother-earth-day
END:VEVENT
BEGIN:VTIMEZONE
TZID:Europe/Berlin
X-LIC-LOCATION:Europe/Berlin
BEGIN:DAYLIGHT
DTSTART;VALUE=DATE-TIME:20250330T030000
TZNAME:CEST
TZOFFSETFROM:+0100
TZOFFSETTO:+0200
END:DAYLIGHT
END:VTIMEZONE
END:VCALENDAR
