BEGIN:VCALENDAR
VERSION:2.0
PRODID:-//Plone.org//NONSGML plone.app.event//EN
X-WR-TIMEZONE:Europe/Berlin
BEGIN:VEVENT
SUMMARY:International Museum Day 2025 | The Future of Museums in Rapidly C
 hanging Communities
DTSTART;TZID=Europe/Berlin;VALUE=DATE-TIME:20250518T100000
DTEND;TZID=Europe/Berlin;VALUE=DATE-TIME:20250518T110000
DTSTAMP;VALUE=DATE-TIME:20260422T210251Z
UID:ed872ce1f92e4fc09d2f6e11a500100d@www.isprambiente.gov.it
CONTACT:https://www.icom-italia.org/international-museum-day-2025/
CREATED;VALUE=DATE-TIME:20250515T080805Z
LAST-MODIFIED;VALUE=DATE-TIME:20250515T080810Z
URL:https://www.isprambiente.gov.it/it/attivita/museo/calendario-eventi/20
 25/international-museum-day-2025-the-future-of-museums-in-rapidly-changing
 -communities
END:VEVENT
BEGIN:VTIMEZONE
TZID:Europe/Berlin
X-LIC-LOCATION:Europe/Berlin
BEGIN:DAYLIGHT
DTSTART;VALUE=DATE-TIME:20250330T030000
TZNAME:CEST
TZOFFSETFROM:+0100
TZOFFSETTO:+0200
END:DAYLIGHT
END:VTIMEZONE
END:VCALENDAR
