BEGIN:VCALENDAR
VERSION:2.0
PRODID:-//Plone.org//NONSGML plone.app.event//EN
X-WR-TIMEZONE:Europe/Berlin
BEGIN:VEVENT
SUMMARY:International scientific conference “Alpine flora: biodiversity 
 and conservation”
DTSTART;TZID=Europe/Berlin;VALUE=DATE-TIME:20250605T080000
DTEND;TZID=Europe/Berlin;VALUE=DATE-TIME:20250607T090000
DTSTAMP;VALUE=DATE-TIME:20260422T210236Z
UID:dc014108d6134da0b578eae9cdc7a9d8@www.isprambiente.gov.it
CONTACT:https://www.pngp.it/alpineflora2025
CREATED;VALUE=DATE-TIME:20250505T065103Z
LAST-MODIFIED;VALUE=DATE-TIME:20250505T065114Z
URL:https://www.isprambiente.gov.it/it/attivita/museo/calendario-eventi/20
 25/international-scientific-conference-201calpine-flora-biodiversity-and-c
 onservation201d
END:VEVENT
BEGIN:VTIMEZONE
TZID:Europe/Berlin
X-LIC-LOCATION:Europe/Berlin
BEGIN:DAYLIGHT
DTSTART;VALUE=DATE-TIME:20250330T030000
TZNAME:CEST
TZOFFSETFROM:+0100
TZOFFSETTO:+0200
END:DAYLIGHT
END:VTIMEZONE
END:VCALENDAR
