BEGIN:VCALENDAR
VERSION:2.0
PRODID:-//Plone.org//NONSGML plone.app.event//EN
X-WR-TIMEZONE:Europe/Berlin
BEGIN:VEVENT
SUMMARY:Italian Geothermal Forum
DTSTART;TZID=Europe/Berlin;VALUE=DATE-TIME:20250311T080000
DTEND;TZID=Europe/Berlin;VALUE=DATE-TIME:20250312T090000
DTSTAMP;VALUE=DATE-TIME:20260422T205356Z
UID:ac9b008c0861404585003ccbfd2a62ba@www.isprambiente.gov.it
CONTACT:https://www.cngeologi.it/2025/02/04/italian-geothermal-forum-roma-
 11-12-marzo-2025/
CREATED;VALUE=DATE-TIME:20250303T070718Z
LAST-MODIFIED;VALUE=DATE-TIME:20250303T070722Z
URL:https://www.isprambiente.gov.it/it/attivita/museo/calendario-eventi/20
 25/italian-geothermal-forum
END:VEVENT
BEGIN:VTIMEZONE
TZID:Europe/Berlin
X-LIC-LOCATION:Europe/Berlin
BEGIN:STANDARD
DTSTART;VALUE=DATE-TIME:20241027T020000
TZNAME:CET
TZOFFSETFROM:+0200
TZOFFSETTO:+0100
END:STANDARD
END:VTIMEZONE
END:VCALENDAR
