BEGIN:VCALENDAR
VERSION:2.0
PRODID:-//Plone.org//NONSGML plone.app.event//EN
X-WR-TIMEZONE:Europe/Berlin
BEGIN:VEVENT
SUMMARY:KEY 2025 - The Energy Transition
DTSTART;TZID=Europe/Berlin;VALUE=DATE-TIME:20250305T080000
DTEND;TZID=Europe/Berlin;VALUE=DATE-TIME:20250307T090000
DTSTAMP;VALUE=DATE-TIME:20260422T221411Z
UID:a68607afb8ad4aeda795df7af85f7703@www.isprambiente.gov.it
CONTACT:https://www.rinnovabili.it/eventi/key-2025/
CREATED;VALUE=DATE-TIME:20250303T070629Z
LAST-MODIFIED;VALUE=DATE-TIME:20250303T070632Z
URL:https://www.isprambiente.gov.it/it/attivita/museo/calendario-eventi/20
 25/key-2025-the-energy-transition
END:VEVENT
BEGIN:VTIMEZONE
TZID:Europe/Berlin
X-LIC-LOCATION:Europe/Berlin
BEGIN:STANDARD
DTSTART;VALUE=DATE-TIME:20241027T020000
TZNAME:CET
TZOFFSETFROM:+0200
TZOFFSETTO:+0100
END:STANDARD
END:VTIMEZONE
END:VCALENDAR
