BEGIN:VCALENDAR
VERSION:2.0
PRODID:-//Plone.org//NONSGML plone.app.event//EN
X-WR-TIMEZONE:Europe/Berlin
BEGIN:VEVENT
SUMMARY:L’INGV a Genova per raccontare i fenomeni naturali attraverso i 
 cinque sensi
DTSTART;TZID=Europe/Berlin;VALUE=DATE-TIME:20251107T070000
DTEND;TZID=Europe/Berlin;VALUE=DATE-TIME:20251126T080000
DTSTAMP;VALUE=DATE-TIME:20260422T210931Z
UID:658fa707b44c4cb5ab8f4a2dab453ce1@www.isprambiente.gov.it
CONTACT:https://www.ingv.it/stampa-urp/ufficio-stampa/news/mostra-l-ingv-a
 -genova-per-raccontare-i-fenomeni-naturali-attraverso-i-cinque-sensi
CREATED;VALUE=DATE-TIME:20251107T064218Z
LAST-MODIFIED;VALUE=DATE-TIME:20251107T064223Z
URL:https://www.isprambiente.gov.it/it/attivita/museo/calendario-eventi/20
 25/l2019ingv-a-genova-per-raccontare-i-fenomeni-naturali-attraverso-i-cinq
 ue-sensi
END:VEVENT
BEGIN:VTIMEZONE
TZID:Europe/Berlin
X-LIC-LOCATION:Europe/Berlin
BEGIN:STANDARD
DTSTART;VALUE=DATE-TIME:20251026T020000
TZNAME:CET
TZOFFSETFROM:+0200
TZOFFSETTO:+0100
END:STANDARD
END:VTIMEZONE
END:VCALENDAR
