BEGIN:VCALENDAR
VERSION:2.0
PRODID:-//Plone.org//NONSGML plone.app.event//EN
X-WR-TIMEZONE:Europe/Berlin
BEGIN:VEVENT
SUMMARY:L’INGV alla mostra promossa da AEFI e MIMIT per valorizzare le e
 ccellenze italiane nell’innovazione e nella ricerca
DTSTART;TZID=Europe/Berlin;VALUE=DATE-TIME:20250626T130000
DTEND;TZID=Europe/Berlin;VALUE=DATE-TIME:20250714T140000
DTSTAMP;VALUE=DATE-TIME:20260422T210302Z
UID:44c41c2f217e48bb95ee68bcefcc74fe@www.isprambiente.gov.it
CONTACT:https://www.ingv.it/stampa-e-urp/stampa/comunicati-stampa/5773-mad
 e-in-italy-l-ingv-alla-mostra-promossa-da-aefi-e-mimit-per-valorizzare-le-
 eccellenze-italiane-nell-innovazione-e-nella-ricerca
CREATED;VALUE=DATE-TIME:20250624T112847Z
LAST-MODIFIED;VALUE=DATE-TIME:20250624T112854Z
URL:https://www.isprambiente.gov.it/it/attivita/museo/calendario-eventi/20
 25/l2019ingv-alla-mostra-promossa-da-aefi-e-mimit-per-valorizzare-le-eccel
 lenze-italiane-nell2019innovazione-e-nella-ricerca
END:VEVENT
BEGIN:VTIMEZONE
TZID:Europe/Berlin
X-LIC-LOCATION:Europe/Berlin
BEGIN:DAYLIGHT
DTSTART;VALUE=DATE-TIME:20250330T030000
TZNAME:CEST
TZOFFSETFROM:+0100
TZOFFSETTO:+0200
END:DAYLIGHT
END:VTIMEZONE
END:VCALENDAR
