BEGIN:VCALENDAR
VERSION:2.0
PRODID:-//Plone.org//NONSGML plone.app.event//EN
X-WR-TIMEZONE:Europe/Berlin
BEGIN:VEVENT
SUMMARY:L’INGV inaugura PULSE\, l’installazione scientifica che raccon
 ta il calore della Terra
DTSTART;TZID=Europe/Berlin;VALUE=DATE-TIME:20250321T130000
DTEND;TZID=Europe/Berlin;VALUE=DATE-TIME:20250321T140000
DTSTAMP;VALUE=DATE-TIME:20260422T222548Z
UID:f09c32944da34495a5f5dedc5bd915de@www.isprambiente.gov.it
CONTACT:https://www.ingv.it/stampa-e-urp/stampa/comunicati-stampa/5708-geo
 termia-l-ingv-inaugura-pulse-l-installazione-scientifica-che-racconta-il-c
 alore-della-terra
CREATED;VALUE=DATE-TIME:20250318T124339Z
LAST-MODIFIED;VALUE=DATE-TIME:20250318T124344Z
URL:https://www.isprambiente.gov.it/it/attivita/museo/calendario-eventi/20
 25/l2019ingv-inaugura-pulse-l2019installazione-scientifica-che-racconta-il
 -calore-della-terra
END:VEVENT
BEGIN:VTIMEZONE
TZID:Europe/Berlin
X-LIC-LOCATION:Europe/Berlin
BEGIN:STANDARD
DTSTART;VALUE=DATE-TIME:20241027T020000
TZNAME:CET
TZOFFSETFROM:+0200
TZOFFSETTO:+0100
END:STANDARD
END:VTIMEZONE
END:VCALENDAR
