BEGIN:VCALENDAR
VERSION:2.0
PRODID:-//Plone.org//NONSGML plone.app.event//EN
X-WR-TIMEZONE:Europe/Berlin
BEGIN:VEVENT
SUMMARY:La Biblioteca di Nemo. Dialoghi di storia e di scienza al Museo di
  Storia Naturale di Verona
DTSTART;TZID=Europe/Berlin;VALUE=DATE-TIME:20250328T080000
DTEND;TZID=Europe/Berlin;VALUE=DATE-TIME:20251218T090000
DTSTAMP;VALUE=DATE-TIME:20260422T210910Z
UID:60f5d86b754949eba621192893cc08f4@www.isprambiente.gov.it
CONTACT:https://museodistorianaturale.comune.verona.it/nqcontent.cfm?a_id=
 95724
CREATED;VALUE=DATE-TIME:20250328T072859Z
LAST-MODIFIED;VALUE=DATE-TIME:20250328T072904Z
URL:https://www.isprambiente.gov.it/it/attivita/museo/calendario-eventi/20
 25/la-biblioteca-di-nemo-dialoghi-di-storia-e-di-scienza-al-museo-di-stori
 a-naturale-di-verona
END:VEVENT
BEGIN:VTIMEZONE
TZID:Europe/Berlin
X-LIC-LOCATION:Europe/Berlin
BEGIN:STANDARD
DTSTART;VALUE=DATE-TIME:20241027T020000
TZNAME:CET
TZOFFSETFROM:+0200
TZOFFSETTO:+0100
END:STANDARD
BEGIN:STANDARD
DTSTART;VALUE=DATE-TIME:20251026T020000
TZNAME:CET
TZOFFSETFROM:+0200
TZOFFSETTO:+0100
END:STANDARD
END:VTIMEZONE
END:VCALENDAR
