BEGIN:VCALENDAR
VERSION:2.0
PRODID:-//Plone.org//NONSGML plone.app.event//EN
X-WR-TIMEZONE:Europe/Berlin
BEGIN:VEVENT
SUMMARY:La cultura della prevenzione e il ruolo delle amministrazioni: str
 ategie di risk management per musei\, archivi e biblioteche
DTSTART;TZID=Europe/Berlin;VALUE=DATE-TIME:20251201T070000
DTEND;TZID=Europe/Berlin;VALUE=DATE-TIME:20251201T080000
DTSTAMP;VALUE=DATE-TIME:20260422T211054Z
UID:1aa5e162a6a74c2fa5598dd8a643db80@www.isprambiente.gov.it
CREATED;VALUE=DATE-TIME:20251128T063207Z
LAST-MODIFIED;VALUE=DATE-TIME:20251128T063214Z
URL:https://www.isprambiente.gov.it/it/attivita/museo/calendario-eventi/20
 25/la-cultura-della-prevenzione-e-il-ruolo-delle-amministrazioni-strategie
 -di-risk-management-per-musei-archivi-e-biblioteche
END:VEVENT
BEGIN:VTIMEZONE
TZID:Europe/Berlin
X-LIC-LOCATION:Europe/Berlin
BEGIN:STANDARD
DTSTART;VALUE=DATE-TIME:20251026T020000
TZNAME:CET
TZOFFSETFROM:+0200
TZOFFSETTO:+0100
END:STANDARD
END:VTIMEZONE
END:VCALENDAR
