BEGIN:VCALENDAR
VERSION:2.0
PRODID:-//Plone.org//NONSGML plone.app.event//EN
X-WR-TIMEZONE:Europe/Berlin
BEGIN:VEVENT
SUMMARY:La Interdisciplinarità Sistemica
DTSTART;TZID=Europe/Berlin;VALUE=DATE-TIME:20250507T080000
DTEND;TZID=Europe/Berlin;VALUE=DATE-TIME:20250507T090000
DTSTAMP;VALUE=DATE-TIME:20260422T210130Z
UID:3b920591b24d4244991c7d4050841519@www.isprambiente.gov.it
CONTACT:https://www.lincei.it/it/manifestazioni/la-interdisciplinarita-sis
 temica
CREATED;VALUE=DATE-TIME:20250505T064431Z
LAST-MODIFIED;VALUE=DATE-TIME:20250505T064441Z
URL:https://www.isprambiente.gov.it/it/attivita/museo/calendario-eventi/20
 25/la-interdisciplinarita-sistemica
END:VEVENT
BEGIN:VTIMEZONE
TZID:Europe/Berlin
X-LIC-LOCATION:Europe/Berlin
BEGIN:DAYLIGHT
DTSTART;VALUE=DATE-TIME:20250330T030000
TZNAME:CEST
TZOFFSETFROM:+0100
TZOFFSETTO:+0200
END:DAYLIGHT
END:VTIMEZONE
END:VCALENDAR
