BEGIN:VCALENDAR
VERSION:2.0
PRODID:-//Plone.org//NONSGML plone.app.event//EN
X-WR-TIMEZONE:Europe/Berlin
BEGIN:VEVENT
SUMMARY:La Specola\, mostra FIORI DELLA TERRA: colori e geometrie nei mine
 rali
DTSTART;TZID=Europe/Berlin;VALUE=DATE-TIME:20250422T080000
DTEND;TZID=Europe/Berlin;VALUE=DATE-TIME:20250518T090000
DTSTAMP;VALUE=DATE-TIME:20260422T210302Z
UID:a4c7c00050494d3b8d0cf0549d5952b3@www.isprambiente.gov.it
CONTACT:https://www.sma.unifi.it/art-645-la-specola-mostra-fiori-della-ter
 ra-colori-e-geometrie-nei-minerali.html#
CREATED;VALUE=DATE-TIME:20250422T060309Z
LAST-MODIFIED;VALUE=DATE-TIME:20250422T060318Z
URL:https://www.isprambiente.gov.it/it/attivita/museo/calendario-eventi/20
 25/la-specola-mostra-fiori-della-terra-colori-e-geometrie-nei-minerali
END:VEVENT
BEGIN:VTIMEZONE
TZID:Europe/Berlin
X-LIC-LOCATION:Europe/Berlin
BEGIN:DAYLIGHT
DTSTART;VALUE=DATE-TIME:20250330T030000
TZNAME:CEST
TZOFFSETFROM:+0100
TZOFFSETTO:+0200
END:DAYLIGHT
END:VTIMEZONE
END:VCALENDAR
