BEGIN:VCALENDAR
VERSION:2.0
PRODID:-//Plone.org//NONSGML plone.app.event//EN
X-WR-TIMEZONE:Europe/Berlin
BEGIN:VEVENT
SUMMARY:La Trilogia del fiume: "La qualità delle acque"
DTSTART;TZID=Europe/Berlin;VALUE=DATE-TIME:20250315T070000
DTEND;TZID=Europe/Berlin;VALUE=DATE-TIME:20250329T080000
DTSTAMP;VALUE=DATE-TIME:20260422T210252Z
UID:c7cf561426b049799796870103b4e1a2@www.isprambiente.gov.it
CREATED;VALUE=DATE-TIME:20250303T065505Z
LAST-MODIFIED;VALUE=DATE-TIME:20250303T065509Z
URL:https://www.isprambiente.gov.it/it/attivita/museo/calendario-eventi/20
 25/la-trilogia-del-fiume-la-qualita-delle-acque
END:VEVENT
BEGIN:VTIMEZONE
TZID:Europe/Berlin
X-LIC-LOCATION:Europe/Berlin
BEGIN:STANDARD
DTSTART;VALUE=DATE-TIME:20241027T020000
TZNAME:CET
TZOFFSETFROM:+0200
TZOFFSETTO:+0100
END:STANDARD
END:VTIMEZONE
END:VCALENDAR
