BEGIN:VCALENDAR
VERSION:2.0
PRODID:-//Plone.org//NONSGML plone.app.event//EN
X-WR-TIMEZONE:Europe/Berlin
BEGIN:VEVENT
SUMMARY:Le Notti dell’Archeologia nei musei SMA
DTSTART;TZID=Europe/Berlin;VALUE=DATE-TIME:20250630T130000
DTEND;TZID=Europe/Berlin;VALUE=DATE-TIME:20250803T140000
DTSTAMP;VALUE=DATE-TIME:20260422T221609Z
UID:8e755933fee945f19f86fe081640ec99@www.isprambiente.gov.it
CONTACT:https://www.sma.unipi.it/2025/06/le-notti-dellarcheologia-nei-muse
 i-sma/
CREATED;VALUE=DATE-TIME:20250630T111833Z
LAST-MODIFIED;VALUE=DATE-TIME:20250630T111902Z
URL:https://www.isprambiente.gov.it/it/attivita/museo/calendario-eventi/20
 25/le-notti-dell2019archeologia-nei-musei-sma
END:VEVENT
BEGIN:VTIMEZONE
TZID:Europe/Berlin
X-LIC-LOCATION:Europe/Berlin
BEGIN:DAYLIGHT
DTSTART;VALUE=DATE-TIME:20250330T030000
TZNAME:CEST
TZOFFSETFROM:+0100
TZOFFSETTO:+0200
END:DAYLIGHT
END:VTIMEZONE
END:VCALENDAR
