BEGIN:VCALENDAR
VERSION:2.0
PRODID:-//Plone.org//NONSGML plone.app.event//EN
X-WR-TIMEZONE:Europe/Berlin
BEGIN:VEVENT
SUMMARY:Le professioni museali oggi: lavoro e competenze
DTSTART;TZID=Europe/Berlin;VALUE=DATE-TIME:20250609T090000
DTEND;TZID=Europe/Berlin;VALUE=DATE-TIME:20250609T100000
DTSTAMP;VALUE=DATE-TIME:20260422T205529Z
UID:22a8e906adde4891a04b77a8edd1c29c@www.isprambiente.gov.it
CREATED;VALUE=DATE-TIME:20250529T072701Z
LAST-MODIFIED;VALUE=DATE-TIME:20250529T072706Z
URL:https://www.isprambiente.gov.it/it/attivita/museo/calendario-eventi/20
 25/le-professioni-museali-oggi-lavoro-e-competenze
END:VEVENT
BEGIN:VTIMEZONE
TZID:Europe/Berlin
X-LIC-LOCATION:Europe/Berlin
BEGIN:DAYLIGHT
DTSTART;VALUE=DATE-TIME:20250330T030000
TZNAME:CEST
TZOFFSETFROM:+0100
TZOFFSETTO:+0200
END:DAYLIGHT
END:VTIMEZONE
END:VCALENDAR
