BEGIN:VCALENDAR
VERSION:2.0
PRODID:-//Plone.org//NONSGML plone.app.event//EN
X-WR-TIMEZONE:Europe/Berlin
BEGIN:VEVENT
SUMMARY:LifeWatch Italia 2025
DTSTART;TZID=Europe/Berlin;VALUE=DATE-TIME:20250129T130000
DTEND;TZID=Europe/Berlin;VALUE=DATE-TIME:20250130T140000
DTSTAMP;VALUE=DATE-TIME:20260422T205522Z
UID:d0ae7d419fb34fd6af27449eda7031dc@www.isprambiente.gov.it
CONTACT:https://www.cnr.it/it/evento/19594
CREATED;VALUE=DATE-TIME:20250107T124939Z
LAST-MODIFIED;VALUE=DATE-TIME:20250107T124945Z
URL:https://www.isprambiente.gov.it/it/attivita/museo/calendario-eventi/20
 25/lifewatch-italia-2025
END:VEVENT
BEGIN:VTIMEZONE
TZID:Europe/Berlin
X-LIC-LOCATION:Europe/Berlin
BEGIN:STANDARD
DTSTART;VALUE=DATE-TIME:20241027T020000
TZNAME:CET
TZOFFSETFROM:+0200
TZOFFSETTO:+0100
END:STANDARD
END:VTIMEZONE
END:VCALENDAR
