BEGIN:VCALENDAR
VERSION:2.0
PRODID:-//Plone.org//NONSGML plone.app.event//EN
X-WR-TIMEZONE:Europe/Berlin
BEGIN:VEVENT
SUMMARY:Lo studio dell’Etna
DTSTART;TZID=Europe/Berlin;VALUE=DATE-TIME:20250311T100000
DTEND;TZID=Europe/Berlin;VALUE=DATE-TIME:20250430T110000
DTSTAMP;VALUE=DATE-TIME:20260422T221223Z
UID:dd24d45f3ec34c07b1d7979e4ac83609@www.isprambiente.gov.it
CONTACT:https://www.agenda.unict.it/20221-lo-studio-delletna-tra-strumenti
 -e-rappresentazioni.htm
CREATED;VALUE=DATE-TIME:20250311T091407Z
LAST-MODIFIED;VALUE=DATE-TIME:20250311T091415Z
URL:https://www.isprambiente.gov.it/it/attivita/museo/calendario-eventi/20
 25/lo-studio-dell2019etna
END:VEVENT
BEGIN:VTIMEZONE
TZID:Europe/Berlin
X-LIC-LOCATION:Europe/Berlin
BEGIN:STANDARD
DTSTART;VALUE=DATE-TIME:20241027T020000
TZNAME:CET
TZOFFSETFROM:+0200
TZOFFSETTO:+0100
END:STANDARD
BEGIN:DAYLIGHT
DTSTART;VALUE=DATE-TIME:20250330T030000
TZNAME:CEST
TZOFFSETFROM:+0100
TZOFFSETTO:+0200
END:DAYLIGHT
END:VTIMEZONE
END:VCALENDAR
