BEGIN:VCALENDAR
VERSION:2.0
PRODID:-//Plone.org//NONSGML plone.app.event//EN
X-WR-TIMEZONE:Europe/Berlin
BEGIN:VEVENT
SUMMARY:MALPENSA MINERAL & BIJOUX
DTSTART;TZID=Europe/Berlin;VALUE=DATE-TIME:20250208T110000
DTEND;TZID=Europe/Berlin;VALUE=DATE-TIME:20250209T120000
DTSTAMP;VALUE=DATE-TIME:20260422T205358Z
UID:e97daf33c1de48399020bee09c7d8473@www.isprambiente.gov.it
CONTACT:https://www.malpensafiere.it/malpensa-mineral-bijoux-2025/
CREATED;VALUE=DATE-TIME:20250129T104733Z
LAST-MODIFIED;VALUE=DATE-TIME:20250129T104743Z
URL:https://www.isprambiente.gov.it/it/attivita/museo/calendario-eventi/20
 25/malpensa-mineral-bijoux
END:VEVENT
BEGIN:VTIMEZONE
TZID:Europe/Berlin
X-LIC-LOCATION:Europe/Berlin
BEGIN:STANDARD
DTSTART;VALUE=DATE-TIME:20241027T020000
TZNAME:CET
TZOFFSETFROM:+0200
TZOFFSETTO:+0100
END:STANDARD
END:VTIMEZONE
END:VCALENDAR
