BEGIN:VCALENDAR
VERSION:2.0
PRODID:-//Plone.org//NONSGML plone.app.event//EN
X-WR-TIMEZONE:Europe/Berlin
BEGIN:VEVENT
SUMMARY:Minerali nelle Prealpi Orobiche
DTSTART;TZID=Europe/Berlin;VALUE=DATE-TIME:20250726T130000
DTEND;TZID=Europe/Berlin;VALUE=DATE-TIME:20250726T140000
DTSTAMP;VALUE=DATE-TIME:20260422T205529Z
UID:a5315b2f540e4ad49aa0a4d0555e6bb4@www.isprambiente.gov.it
CONTACT:https://www.museostorianaturale.it/appuntamenti/minerali-nelle-pre
 alpi-orobiche/
CREATED;VALUE=DATE-TIME:20250630T112014Z
LAST-MODIFIED;VALUE=DATE-TIME:20250630T112023Z
URL:https://www.isprambiente.gov.it/it/attivita/museo/calendario-eventi/20
 25/minerali-nelle-prealpi-orobiche
END:VEVENT
BEGIN:VTIMEZONE
TZID:Europe/Berlin
X-LIC-LOCATION:Europe/Berlin
BEGIN:DAYLIGHT
DTSTART;VALUE=DATE-TIME:20250330T030000
TZNAME:CEST
TZOFFSETFROM:+0100
TZOFFSETTO:+0200
END:DAYLIGHT
END:VTIMEZONE
END:VCALENDAR
