BEGIN:VCALENDAR
VERSION:2.0
PRODID:-//Plone.org//NONSGML plone.app.event//EN
X-WR-TIMEZONE:Europe/Berlin
BEGIN:VEVENT
SUMMARY:Mostra “Archeoplastica in tour”
DTSTART;TZID=Europe/Berlin;VALUE=DATE-TIME:20250529T090000
DTEND;TZID=Europe/Berlin;VALUE=DATE-TIME:20250831T100000
DTSTAMP;VALUE=DATE-TIME:20260422T205523Z
UID:0be922268c0e4f2dbd751666c7472c18@www.isprambiente.gov.it
CONTACT:https://www.museoomero.it/mostre/mostra-archeoplastica-in-tour/?ut
 m_source=mailpoet&utm_medium=email&utm_source_platform=mailpoet&utm_campai
 gn=mostra%20Archeoplastica%20in%20tour
CREATED;VALUE=DATE-TIME:20250529T072950Z
LAST-MODIFIED;VALUE=DATE-TIME:20250529T073000Z
URL:https://www.isprambiente.gov.it/it/attivita/museo/calendario-eventi/20
 25/mostra-201carcheoplastica-in-tour201d
END:VEVENT
BEGIN:VTIMEZONE
TZID:Europe/Berlin
X-LIC-LOCATION:Europe/Berlin
BEGIN:DAYLIGHT
DTSTART;VALUE=DATE-TIME:20250330T030000
TZNAME:CEST
TZOFFSETFROM:+0100
TZOFFSETTO:+0200
END:DAYLIGHT
END:VTIMEZONE
END:VCALENDAR
