BEGIN:VCALENDAR
VERSION:2.0
PRODID:-//Plone.org//NONSGML plone.app.event//EN
X-WR-TIMEZONE:Europe/Berlin
BEGIN:VEVENT
SUMMARY:Mostra di minerali scambio & borsa
DTSTART;TZID=Europe/Berlin;VALUE=DATE-TIME:20251214T070000
DTEND;TZID=Europe/Berlin;VALUE=DATE-TIME:20251214T080000
DTSTAMP;VALUE=DATE-TIME:20260422T210130Z
UID:0e385274a72b4e16b5af714f986a6edd@www.isprambiente.gov.it
CONTACT:https://www.gmplucchese.com/eventi.html
CREATED;VALUE=DATE-TIME:20251128T062639Z
LAST-MODIFIED;VALUE=DATE-TIME:20251128T062643Z
URL:https://www.isprambiente.gov.it/it/attivita/museo/calendario-eventi/20
 25/mostra-di-minerali-scambio-borsa
END:VEVENT
BEGIN:VTIMEZONE
TZID:Europe/Berlin
X-LIC-LOCATION:Europe/Berlin
BEGIN:STANDARD
DTSTART;VALUE=DATE-TIME:20251026T020000
TZNAME:CET
TZOFFSETFROM:+0200
TZOFFSETTO:+0100
END:STANDARD
END:VTIMEZONE
END:VCALENDAR
