BEGIN:VCALENDAR
VERSION:2.0
PRODID:-//Plone.org//NONSGML plone.app.event//EN
X-WR-TIMEZONE:Europe/Berlin
BEGIN:VEVENT
SUMMARY:Mostra Enlighting Mind
DTSTART;TZID=Europe/Berlin;VALUE=DATE-TIME:20250909T070000
DTEND;TZID=Europe/Berlin;VALUE=DATE-TIME:20250916T080000
DTSTAMP;VALUE=DATE-TIME:20260422T205352Z
UID:abc42426e60142e49edbfc7159d91b36@www.isprambiente.gov.it
CONTACT:https://www.fisica.unifi.it/art-732-per-celebrare-il-centenario-de
 l-museo-galileo-istituto-e-museo-di-storia-della-scienza-il-dipartimento-o
 rganizza-visite-guidate-alla-mostra-enlighting-mind.html
CREATED;VALUE=DATE-TIME:20250915T052712Z
LAST-MODIFIED;VALUE=DATE-TIME:20250915T052715Z
URL:https://www.isprambiente.gov.it/it/attivita/museo/calendario-eventi/20
 25/mostra-enlighting-mind
END:VEVENT
BEGIN:VTIMEZONE
TZID:Europe/Berlin
X-LIC-LOCATION:Europe/Berlin
BEGIN:DAYLIGHT
DTSTART;VALUE=DATE-TIME:20250330T030000
TZNAME:CEST
TZOFFSETFROM:+0100
TZOFFSETTO:+0200
END:DAYLIGHT
END:VTIMEZONE
END:VCALENDAR
