BEGIN:VCALENDAR
VERSION:2.0
PRODID:-//Plone.org//NONSGML plone.app.event//EN
X-WR-TIMEZONE:Europe/Berlin
BEGIN:VEVENT
SUMMARY:Musei a porte aperte – Museo di Scienze della Terra
DTSTART;TZID=Europe/Berlin;VALUE=DATE-TIME:20250926T070000
DTEND;TZID=Europe/Berlin;VALUE=DATE-TIME:20250926T080000
DTSTAMP;VALUE=DATE-TIME:20260422T210114Z
UID:1bafa54959b4409894e4e1808cbc7ef5@www.isprambiente.gov.it
CONTACT:https://www.sharper-night.it/evento/musei-a-porte-aperte-museo-di-
 scienze-della-terra/
CREATED;VALUE=DATE-TIME:20250915T052436Z
LAST-MODIFIED;VALUE=DATE-TIME:20250915T052440Z
URL:https://www.isprambiente.gov.it/it/attivita/museo/calendario-eventi/20
 25/musei-a-porte-aperte-2013-museo-di-scienze-della-terra
END:VEVENT
BEGIN:VTIMEZONE
TZID:Europe/Berlin
X-LIC-LOCATION:Europe/Berlin
BEGIN:DAYLIGHT
DTSTART;VALUE=DATE-TIME:20250330T030000
TZNAME:CEST
TZOFFSETFROM:+0100
TZOFFSETTO:+0200
END:DAYLIGHT
END:VTIMEZONE
END:VCALENDAR
