BEGIN:VCALENDAR
VERSION:2.0
PRODID:-//Plone.org//NONSGML plone.app.event//EN
X-WR-TIMEZONE:Europe/Berlin
BEGIN:VEVENT
SUMMARY:Musei e culture queer \, le istituzioni culturali per i diritti LG
 BTQ+
DTSTART;TZID=Europe/Berlin;VALUE=DATE-TIME:20250620T110000
DTEND;TZID=Europe/Berlin;VALUE=DATE-TIME:20250620T120000
DTSTAMP;VALUE=DATE-TIME:20260422T210236Z
UID:8a313d22996c46be99df7b90e89c1f43@www.isprambiente.gov.it
CONTACT:https://www.icom-italia.org/wp-content/uploads/2025/05/ICOM-250520
 -Locandina_V6-1-1.pdf
CREATED;VALUE=DATE-TIME:20250606T090937Z
LAST-MODIFIED;VALUE=DATE-TIME:20250624T113448Z
URL:https://www.isprambiente.gov.it/it/attivita/museo/calendario-eventi/20
 25/musei-e-culture-queer-le-istituzioni-culturali-per-i-diritti-lgbtq
END:VEVENT
BEGIN:VTIMEZONE
TZID:Europe/Berlin
X-LIC-LOCATION:Europe/Berlin
BEGIN:DAYLIGHT
DTSTART;VALUE=DATE-TIME:20250330T030000
TZNAME:CEST
TZOFFSETFROM:+0100
TZOFFSETTO:+0200
END:DAYLIGHT
END:VTIMEZONE
END:VCALENDAR
